BEGIN:VCALENDAR
VERSION:2.0
PRODID:-//Alternative für Deutschland - ECPv6.15.13//NONSGML v1.0//EN
CALSCALE:GREGORIAN
METHOD:PUBLISH
X-WR-CALNAME:Alternative für Deutschland
X-ORIGINAL-URL:https://www.afd-spn.de
X-WR-CALDESC:Veranstaltungen für Alternative für Deutschland
REFRESH-INTERVAL;VALUE=DURATION:PT1H
X-Robots-Tag:noindex
X-PUBLISHED-TTL:PT1H
BEGIN:VTIMEZONE
TZID:Europe/Berlin
BEGIN:DAYLIGHT
TZOFFSETFROM:+0100
TZOFFSETTO:+0200
TZNAME:CEST
DTSTART:20240331T010000
END:DAYLIGHT
BEGIN:STANDARD
TZOFFSETFROM:+0200
TZOFFSETTO:+0100
TZNAME:CET
DTSTART:20241027T010000
END:STANDARD
BEGIN:DAYLIGHT
TZOFFSETFROM:+0100
TZOFFSETTO:+0200
TZNAME:CEST
DTSTART:20250330T010000
END:DAYLIGHT
BEGIN:STANDARD
TZOFFSETFROM:+0200
TZOFFSETTO:+0100
TZNAME:CET
DTSTART:20251026T010000
END:STANDARD
BEGIN:DAYLIGHT
TZOFFSETFROM:+0100
TZOFFSETTO:+0200
TZNAME:CEST
DTSTART:20260329T010000
END:DAYLIGHT
BEGIN:STANDARD
TZOFFSETFROM:+0200
TZOFFSETTO:+0100
TZNAME:CET
DTSTART:20261025T010000
END:STANDARD
BEGIN:DAYLIGHT
TZOFFSETFROM:+0100
TZOFFSETTO:+0200
TZNAME:CEST
DTSTART:20270328T010000
END:DAYLIGHT
BEGIN:STANDARD
TZOFFSETFROM:+0200
TZOFFSETTO:+0100
TZNAME:CET
DTSTART:20271031T010000
END:STANDARD
END:VTIMEZONE
BEGIN:VEVENT
DTSTART;TZID=Europe/Berlin:20260414T180000
DTEND;TZID=Europe/Berlin:20260414T200000
DTSTAMP:20260420T100450
CREATED:20260410T104711Z
LAST-MODIFIED:20260410T104711Z
UID:6595-1776189600-1776196800@www.afd-spn.de
SUMMARY:Bürgerdialog in Debkau
DESCRIPTION:Drebkau aufgepasst! \n\n\nAm 14. April laden wir dich zu unserem Bürgerdialog zur Bürgermeisterwahl in Drebkau ein. Komm vorbei\, stell deine Fragen\, sag uns deine Meinung und lern unseren Bürgermeisterkandidaten persönlich kennen — ganz unkompliziert bei Freibier und Rauchwurst. \n\n\nMit dabei sind meine Landtagskollegegen Dr. Christoph Berndt (MdL) und Steffen Kubitzki (MdL) sowie natürlich unser Bürgermeisterkandidat Dietmar Serb.\n\n\n Dienstag\, 14.4.\n 18:00 Uhr\n Bürgerhaus Kausche\, An den Steinen 7\, Drebkau \n\n\nAm 26. April geht es dann um die Zukunft von Drebkau.\nAlso: Komm vorbei\, bring gern noch jemanden mit und lass uns ins Gespräch kommen.
URL:https://www.afd-spn.de/termine/buergerdialog-in-debkau/
END:VEVENT
BEGIN:VEVENT
DTSTART;TZID=Europe/Berlin:20260408T130000
DTEND;TZID=Europe/Berlin:20260408T150000
DTSTAMP:20260420T100450
CREATED:20260407T110024Z
LAST-MODIFIED:20260407T110024Z
UID:6590-1775653200-1775660400@www.afd-spn.de
SUMMARY:Infostand in Welzow
DESCRIPTION:Am 08. April findet in Welzow ein Infostand mit den Abgeordneten Jean-Pascal Hohm und Michael Hanko statt. \n Kommt vorbei\, stellt eure Fragen und kommt direkt ins Gespräch über aktuelle politische Themen. \n Datum: 08. April Uhrzeit: 13:00 – 15:00 Uhr Ort: Welzow \nWir freuen uns auf den Austausch mit euch!
URL:https://www.afd-spn.de/termine/infostand-in-welzow-3/
LOCATION:Marktplatz Welzow
END:VEVENT
BEGIN:VEVENT
DTSTART;TZID=Europe/Berlin:20260408T100000
DTEND;TZID=Europe/Berlin:20260408T120000
DTSTAMP:20260420T100450
CREATED:20260407T105617Z
LAST-MODIFIED:20260407T105731Z
UID:6587-1775642400-1775649600@www.afd-spn.de
SUMMARY:Infostand in Spremberg
DESCRIPTION:Am Marktplatz vor dem Rathaus in Spremberg findet ein Infostand mit den Abgeordneten Jean-Pascal Hohm und Michael Hanko statt. \n Kommt vorbei\, stellt eure Fragen und kommt direkt ins Gespräch über aktuelle politische Themen. \n Ort: Marktplatz am Rathaus\, Spremberg Datum: 08. April Uhrzeit: 10:00 – 12:00 Uhr \nWir freuen uns auf den Austausch mit euch!
URL:https://www.afd-spn.de/termine/infostand-in-spremberg-11/
LOCATION:Am Rathausturm\, Am Markt 1\, 03130 Spremberg
END:VEVENT
BEGIN:VEVENT
DTSTART;TZID=Europe/Berlin:20260320T180000
DTEND;TZID=Europe/Berlin:20260320T200000
DTSTAMP:20260420T100450
CREATED:20260313T123843Z
LAST-MODIFIED:20260313T123843Z
UID:6567-1774029600-1774036800@www.afd-spn.de
SUMMARY:»Die AfD kann Landrat!« – Kandidatin Christine Beyer vor Ort in Welzow!
DESCRIPTION:Am Freitag\, den 20. März\, bin ich vor Ort in Welzow\, um euch meine Visionen für den Landkreis Spree-Neiße vorzustellen. Los geht’s um 18:00 Uhr. Kommt gerne vorbei! \n\n\nVeranstaltungsort: Alter Bahnhof in Welzow\, Heinrich-Heine-Straße 2\, 03119 Welzow\n\n\nMit dabei ist auch Robert Sesselmann\, der AfD-Landrats-Erfahrung aus Sonneberg mitbringt. Er zeigt: »Die AfD kann Landrat!« Denn: Im Gegensatz zum CDU-Landrat in Spree-Neiße hat Robert Sesselmann es geschafft\, einen ausgeglichenen Haushalt aufzustellen. Außerdem treibt er zielstrebig die Digitalisierung der Verwaltung voran. Ein Vorbild! \n\n\nAbrunden wollen wir den Abend und damit auch den Landratswahlkampf mit 50 Liter Freibier für euch. \n\n\nWir freuen uns auf einen tollen Abend! \n\n\n Am 22. März ist die Stichwahl um das Landratsamt in Spree-Neiße. Jede Stimme zählt! Geht wählen und holt Freunde\, Familie und Bekannte mit. Gemeinsam machen wir den politischen Wandel möglich!
URL:https://www.afd-spn.de/termine/die-afd-kann-landrat-kandidatin-christine-beyer-vor-ort-in-welzow/
LOCATION:Alter Bahnhof in Welzow\, Heinrich-Heine-Str. 2\, 03119 Welzow
END:VEVENT
BEGIN:VEVENT
DTSTART;TZID=Europe/Berlin:20260319T190000
DTEND;TZID=Europe/Berlin:20260319T210000
DTSTAMP:20260420T100450
CREATED:20260312T121425Z
LAST-MODIFIED:20260312T121425Z
UID:6560-1773946800-1773954000@www.afd-spn.de
SUMMARY:Endspurt im Landratswahlkampf: Tino Chrupalla kommt nach Spree-Neiße!
DESCRIPTION:Am Donnerstag\, den 19. März\, dürfen wir unseren Bundessprecher Tino Chrupalla im Landkreis Spree-Neiße begrüßen.Wir treffen uns zur großen Wahlkampfveranstaltung in Groß Kölzig. Los geht’s um 19:00 Uhr!Neben Tino Chrupalla werden auch Dr. Hans-Christoph Berndt (Vorsitzender der AfD-Fraktion Brandenburg) und Jean-Pascal Hohm (Landtagsabgeordneter & Bundesvorsitzender der Generation Deutschland) dabei sein.Im Mittelpunkt des Abends steht aber unsere Landratskandidatin Christine Beyer\, die sich und ihre Ideen für den Landkreis Spree-Neiße vorstellen wird. Seid dabei und kommt am 19. März nach Groß Kölzig. Wir freuen uns auf euch! Am 22. März findet die Stichwahl um das Landratsamt in Spree-Neiße statt. Jede Stimme zählt! Geht zur Wahl und motiviert Freunde\, Familie und Bekannte.
URL:https://www.afd-spn.de/termine/endspurt-im-landratswahlkampf-tino-chrupalla-kommt-nach-spree-neisse/
LOCATION:Gathof „Zur Dorflinde\, Kölziger Dorfplatz 18\, 03159 Neiße-Malxetal
END:VEVENT
BEGIN:VEVENT
DTSTART;TZID=Europe/Berlin:20260318T180000
DTEND;TZID=Europe/Berlin:20260318T200000
DTSTAMP:20260420T100450
CREATED:20260317T123443Z
LAST-MODIFIED:20260317T123443Z
UID:6574-1773856800-1773864000@www.afd-spn.de
SUMMARY:Vor Ort in Kausche
DESCRIPTION:Am Mittwoch bin ich zusammen mit unserem Bürgermeisterkandidaten Dietmar Serb vor Ort im Drebkauer Ortsteil Kausche. \n\nNeben der Vorstellung unserer Programme für Drebkau und Spree-Neiße erwarten euch Freibier und Rauchwurst.\n\nKommt gerne vorbei!
URL:https://www.afd-spn.de/termine/vor-ort-in-kausche/
LOCATION:Bürgerhaus Kausche\, An den Steinen 7\, Drebkau/Kausche\, Brandenburg\, 03116\, Deutschland
END:VEVENT
BEGIN:VEVENT
DTSTART;TZID=Europe/Berlin:20260306T180000
DTEND;TZID=Europe/Berlin:20260306T200000
DTSTAMP:20260420T100450
CREATED:20260224T111301Z
LAST-MODIFIED:20260306T131529Z
UID:6509-1772820000-1772827200@www.afd-spn.de
SUMMARY:Wahlkampfabschlussveranstaltung in Forst (Lausitz)
DESCRIPTION:
URL:https://www.afd-spn.de/termine/wahlkampfabschlussveranstaltung-in-forst-lausitz/
LOCATION:Kaiserlichen Postamt\, Berliner Str. 19-23\, 03149 Forst (Lausitz)
END:VEVENT
BEGIN:VEVENT
DTSTART;TZID=Europe/Berlin:20260304T180000
DTEND;TZID=Europe/Berlin:20260304T200000
DTSTAMP:20260420T100450
CREATED:20260215T150647Z
LAST-MODIFIED:20260215T150647Z
UID:6503-1772647200-1772654400@www.afd-spn.de
SUMMARY:Vorstellung der Landratskandidatin Christine Beyer in Heinersbrück
DESCRIPTION:
URL:https://www.afd-spn.de/termine/vorstellung-der-landratskandidatin-christine-beyer-in-heinersbrueck/
LOCATION:Deutsches Haus\, Hauptstr. 35\, 03185 Heinersbrück
END:VEVENT
BEGIN:VEVENT
DTSTART;TZID=Europe/Berlin:20260227T180000
DTEND;TZID=Europe/Berlin:20260227T200000
DTSTAMP:20260420T100450
CREATED:20260215T150201Z
LAST-MODIFIED:20260215T150201Z
UID:6497-1772215200-1772222400@www.afd-spn.de
SUMMARY:Vorstellung der Landratskandidatin Christine Beyer in Peitz
DESCRIPTION:
URL:https://www.afd-spn.de/termine/vorstellung-der-landratskandidatin-christine-beyer-in-peitz/
END:VEVENT
BEGIN:VEVENT
DTSTART;TZID=Europe/Berlin:20260226T183000
DTEND;TZID=Europe/Berlin:20260226T203000
DTSTAMP:20260420T100450
CREATED:20260210T154006Z
LAST-MODIFIED:20260210T154006Z
UID:6460-1772130600-1772137800@www.afd-spn.de
SUMMARY:Bürgerdialog in Klein Bademeusel
DESCRIPTION:
URL:https://www.afd-spn.de/termine/buergerdialog-in-klein-bademeusel/
LOCATION:In der Kulturbaracke !\, Klein Bademeusel
END:VEVENT
BEGIN:VEVENT
DTSTART;TZID=Europe/Berlin:20260226T183000
DTEND;TZID=Europe/Berlin:20260226T203000
DTSTAMP:20260420T100450
CREATED:20260210T111614Z
LAST-MODIFIED:20260210T111614Z
UID:6450-1772130600-1772137800@www.afd-spn.de
SUMMARY:Bürgerdialog in Guben
DESCRIPTION:
URL:https://www.afd-spn.de/termine/buergerdialog-in-guben-4/
LOCATION:Bistro Tom’s Club\, Otto-Thiele-Straße 10\, Guben\, 03172\, Deutschland
END:VEVENT
BEGIN:VEVENT
DTSTART;TZID=Europe/Berlin:20260226T090000
DTEND;TZID=Europe/Berlin:20260226T130000
DTSTAMP:20260420T100450
CREATED:20260215T145313Z
LAST-MODIFIED:20260215T145313Z
UID:6492-1772096400-1772110800@www.afd-spn.de
SUMMARY:Infostand in Spremberg
DESCRIPTION:
URL:https://www.afd-spn.de/termine/infostand-in-spremberg-10/
LOCATION:Am Rathausturm\, Am Markt 1\, 03130 Spremberg
END:VEVENT
BEGIN:VEVENT
DTSTART;TZID=Europe/Berlin:20260225T190000
DTEND;TZID=Europe/Berlin:20260225T210000
DTSTAMP:20260420T100450
CREATED:20260204T154323Z
LAST-MODIFIED:20260204T154323Z
UID:6434-1772046000-1772053200@www.afd-spn.de
SUMMARY:Bürgerdialog in Naundorf
DESCRIPTION:
URL:https://www.afd-spn.de/termine/buergerdialog-in-naundorf/
LOCATION:Bauernschänke und Pension Lehmann\, Naundorfer Landstr. 35\, 03149 Forst\, Lausitz
END:VEVENT
BEGIN:VEVENT
DTSTART;TZID=Europe/Berlin:20260219T190000
DTEND;TZID=Europe/Berlin:20260219T210000
DTSTAMP:20260420T100450
CREATED:20260212T115341Z
LAST-MODIFIED:20260212T115351Z
UID:6481-1771527600-1771534800@www.afd-spn.de
SUMMARY:STADTGESPRÄCH IN SPREMBERG
DESCRIPTION:Wir laden Sie herzlich zu unserem Stadtgespräch im Februar ein. \n\n\nInformieren Sie sich aus erster Hand über die aktuellen kommunalpolitischen Geschehnisse in #Spremberg\, Spree-Neiße und dem Land und kommen Sie mit unseren Abgeordneten ins Gespräch. \n\n\nWir freuen uns auf Sie !
URL:https://www.afd-spn.de/termine/stadtgespraech-in-spremberg-25/
LOCATION:Erlebnisgastronomie Hühnerstall\, Berliner Straße 2a\, Spremberg\, Brandenburg\, 03130\, Deutschland
END:VEVENT
BEGIN:VEVENT
DTSTART;TZID=Europe/Berlin:20260217T183000
DTEND;TZID=Europe/Berlin:20260217T203000
DTSTAMP:20260420T100450
CREATED:20260128T124636Z
LAST-MODIFIED:20260128T124636Z
UID:6397-1771353000-1771360200@www.afd-spn.de
SUMMARY:Bürgerdialog im Ortsteil Horno
DESCRIPTION:
URL:https://www.afd-spn.de/termine/buergerdialog-im-ortsteil-horno/
LOCATION:Gaststätte „Hornoer Krug“\, An der Dorfaue 9\, Forst (Lausitz)
END:VEVENT
BEGIN:VEVENT
DTSTART;TZID=Europe/Berlin:20260217T180000
DTEND;TZID=Europe/Berlin:20260217T200000
DTSTAMP:20260420T100450
CREATED:20260212T114607Z
LAST-MODIFIED:20260212T114607Z
UID:6474-1771351200-1771358400@www.afd-spn.de
SUMMARY:Einladung zum offenen Bürgerdialog in Schmogrow !
DESCRIPTION:Gemeinsam mit meinem Kollegen aus dem Brandenburger Landtag\, Daniel Münschke\, sowie unserer Landratskandidatin für die Landratswahl 2026\, Christine Beyer\, lade ich Sie herzlich ein\, mit uns ins Gespräch zu kommen. Ort: Sport‑ und Speisegaststätte Schmogrow\, Burger Str. 2\, 03096 Schmogrow-Fehrow\, Brandenburg Datum & Uhrzeit: Dienstag\, 17.02.2026\, 18.00 UhrWir möchten Ihre Fragen beantworten\, Ihre Anliegen aufnehmen und uns mit Ihnen zu aktuellen Themen austauschen. Nutzen Sie die Gelegenheit\, Ihre Sichtweisen und Ideen direkt einzubringen – wir freuen uns sehr auf den Dialog mit Ihnen! Kommen Sie vorbei.
URL:https://www.afd-spn.de/termine/einladung-zum-offenen-buergerdialog-in-schmogrow/
LOCATION:Sport- und Speisegaststätte\, 03096 Schmogrow
END:VEVENT
BEGIN:VEVENT
DTSTART;TZID=Europe/Berlin:20260213T170000
DTEND;TZID=Europe/Berlin:20260213T190000
DTSTAMP:20260420T100450
CREATED:20260128T124346Z
LAST-MODIFIED:20260215T153825Z
UID:6394-1771002000-1771009200@www.afd-spn.de
SUMMARY:Bürgerdialog in Forst (Lausitz) mit Robert Sesselmann
DESCRIPTION:
URL:https://www.afd-spn.de/termine/buergerdialog-in-forst-lausitz-mit-robert-sesselmann/
LOCATION:Hotel „Rosenstadt“\, Domsdorfer Kirchweg 14 · 03149 Forst (Lausitz)
END:VEVENT
BEGIN:VEVENT
DTSTART;TZID=Europe/Berlin:20260211T180000
DTEND;TZID=Europe/Berlin:20260211T200000
DTSTAMP:20260420T100450
CREATED:20260210T110221Z
LAST-MODIFIED:20260210T112143Z
UID:6444-1770832800-1770840000@www.afd-spn.de
SUMMARY:Bürgerdialog in Schloss Laubsdorf mit Lars Schieske
DESCRIPTION:Veranstaltung in Laubsdorf – 11. Februar\, 18:00 UhrAm morgigen Mittwoch\, dem 11. Februar\, findet um 18:00 Uhr eine öffentliche Veranstaltung im Schloss Laubsdorf statt.Vor Ort wird unter anderem die Landratskandidatin Christine Beyer sprechen und ihre Zukunftspläne für die Gemeinde Neuhausen sowie den Landkreis Spree-Neiße vorstellen.Im Anschluss besteht die Möglichkeit zum offenen Austausch und Gespräch über aktuelle Themen.Interessierte Bürger sind herzlich eingeladen\, vorbeizukommen und sich zu informieren.
URL:https://www.afd-spn.de/termine/buergerdialog-in-schloss-laubsdorf/
LOCATION:Schloss Laubsdorf\, Laubsdorfer Hauptstr. 21\, 03058 Neuhausen/Spree
END:VEVENT
BEGIN:VEVENT
DTSTART;TZID=Europe/Berlin:20260203T183000
DTEND;TZID=Europe/Berlin:20260203T203000
DTSTAMP:20260420T100450
CREATED:20260127T125207Z
LAST-MODIFIED:20260127T125207Z
UID:6382-1770143400-1770150600@www.afd-spn.de
SUMMARY:Bürgerdialog in Briesnig
DESCRIPTION:
URL:https://www.afd-spn.de/termine/buergerdialog-in-briesnig/
LOCATION:Dorfgemeinschaftshaus in der Briesniger Schulstrasse 5\, Briesnig
END:VEVENT
BEGIN:VEVENT
DTSTART;TZID=Europe/Berlin:20260127T190000
DTEND;TZID=Europe/Berlin:20260127T210000
DTSTAMP:20260420T100450
CREATED:20260127T123931Z
LAST-MODIFIED:20260127T123931Z
UID:6375-1769540400-1769547600@www.afd-spn.de
SUMMARY:Unterstützt unsere Kandidatin\, Christine Beyer zur Landratswahl
DESCRIPTION:Am Dienstag\, 27.01.2026\, stellt sich unsere Kandidatin den Bürgern von Guben. \n\n\nIm Rahmen der „Gubener Gespräche – Kirche findet Stadt“ lädt der Ökumenische Stadtkonvent zu einem moderierten Vorstellungs- und Gesprächsabend ein. \n\n\n Beginn: 19.00 Uhr\n Ort: Friedenskirche Guben\, Dr.-Ayrer-Straße 18\n Moderation: Christine Keilholz (Chefredakteurin Neue Lausitz) \n\n\nEs geht um Persönlichkeit\, Haltung und konkrete Themen für unsere Region – offen\, sachlich und im direkten Austausch mit den Bürgern. \n\n\n Kommt vorbei\, hört zu\, stellt Fragen und zeigt Präsenz.\n Teilt diesen Beitrag und unterstützt unsere Kandidatin auf ihrem Weg zur Landratswahl 2026.
URL:https://www.afd-spn.de/termine/unterstuetzt-unsere-kandidatin-christine-beyer-zur-landratswahl/
LOCATION:Friedenskirche\, Dr. Ayrer Straße 18\, 03172 Guben
END:VEVENT
BEGIN:VEVENT
DTSTART;TZID=Europe/Berlin:20260127T180000
DTEND;TZID=Europe/Berlin:20260127T200000
DTSTAMP:20260420T100450
CREATED:20260123T133651Z
LAST-MODIFIED:20260123T133651Z
UID:6368-1769536800-1769544000@www.afd-spn.de
SUMMARY:Bürgerdialog in Gross Jamno
DESCRIPTION:
URL:https://www.afd-spn.de/termine/buergerdialog-in-gross-jamno/
LOCATION:Im ehemaligen Sportlerheim\, Jether Straße\, Groß Jamno
END:VEVENT
BEGIN:VEVENT
DTSTART;TZID=Europe/Berlin:20260122T180000
DTEND;TZID=Europe/Berlin:20260122T200000
DTSTAMP:20260420T100450
CREATED:20260115T122305Z
LAST-MODIFIED:20260115T122305Z
UID:6347-1769104800-1769112000@www.afd-spn.de
SUMMARY:Bürgerdialog am 22. Januar in Spremberg
DESCRIPTION:Herzliche Einladung zum offenen Bürgerdialog!Gemeinsam mit meinem Landtagskollegen Michael Hanko lade ich Euch herzlich ein.Lasst uns ins Gespräch kommen: Wir beantworten Eure Fragen\, nehmen Eure Anliegen auf und diskutieren aktuelle Themen.Bringt Eure Sichtweisen und Ideen ein – wir freuen uns auf den Austausch mit Euch! Donnerstag\, 22.01.26 18 Uhr Hühnerstall Spremberg \nIhr\nLars Schieske
URL:https://www.afd-spn.de/termine/buergerdialog-am-22-januar-in-spremberg/
LOCATION:Erlebnisgastronomie Hühnerstall\, Berliner Straße 2a\, Spremberg\, Brandenburg\, 03130\, Deutschland
END:VEVENT
BEGIN:VEVENT
DTSTART;TZID=Europe/Berlin:20260114T190000
DTEND;TZID=Europe/Berlin:20260114T210000
DTSTAMP:20260420T100450
CREATED:20251219T094113Z
LAST-MODIFIED:20251219T094113Z
UID:6323-1768417200-1768424400@www.afd-spn.de
SUMMARY:Einladung zum Bürgerdialog
DESCRIPTION:Wann: 14. Januar 2026\, 19:00 – 21:00 UhrWo: Hühnerstall Spremberg\, Berliner Str. 2A in 03130 Spremberg \nWir laden euch herzlich zu einem offenen Bürgerdialog ein! Die Landtagsabgeordneten – Steffen Kubitzki und Michael Hanko – werden vor Ort sein und werden über zentrale politische Themen sprechen\, die uns alle betreffen.  \nKommt vorbei\, bringt eure Fragen und Ideen mit\, und gestaltet mit uns die politische Zukunft! Wir freuen uns auf einen intensiven Austausch und spannende Gespräche!
URL:https://www.afd-spn.de/termine/einladung-zum-buergerdialog/
LOCATION:Erlebnisgastronomie Hühnerstall\, Berliner Straße 2a\, Spremberg\, Brandenburg\, 03130\, Deutschland
END:VEVENT
BEGIN:VEVENT
DTSTART;TZID=Europe/Berlin:20260108T180000
DTEND;TZID=Europe/Berlin:20260108T210000
DTSTAMP:20260420T100450
CREATED:20260106T145403Z
LAST-MODIFIED:20260106T145403Z
UID:6335-1767895200-1767906000@www.afd-spn.de
SUMMARY:Bürgerdialog in Kausche
DESCRIPTION:Einladung zum Bürgerdialog in Kausche  \n\n\nDer persönliche Austausch ist uns wichtig – deshalb laden wir euch herzlich zu einem Bürgerdialog ein! \n\n\n Ort: Kausche (DREBKAU)\n Datum: 08.01.2026\n Uhrzeit: ab 18:00 Uhr \n\n\nMit dabei sind:\n Fabian Jank\, Landtagsabgeordneter\n Christine Beyer\, unsere Landratskandidatin für den Spree-Neiße-Kreis \n\n\nKommt vorbei\, bringt eure Fragen\, Anliegen und Ideen mit – wir möchten mit euch offen ins Gespräch kommen und gemeinsam über die Themen sprechen\, die euch bewegen. \n\n\n Jeder ist herzlich willkommen! \n\n\nWir freuen uns auf einen spannenden Abend und den direkten Dialog mit euch!
URL:https://www.afd-spn.de/termine/buergerdialog-in-kausche/
LOCATION:Bürgerhaus Kausche\, 03116 Drebkau
END:VEVENT
BEGIN:VEVENT
DTSTART;TZID=Europe/Berlin:20251127T190000
DTEND;TZID=Europe/Berlin:20251127T210000
DTSTAMP:20260420T100450
CREATED:20251112T142353Z
LAST-MODIFIED:20251112T142353Z
UID:6240-1764270000-1764277200@www.afd-spn.de
SUMMARY:Bürgerdialog in Forst am 27. November
DESCRIPTION:Bei dem am 27. November in Forst (Lausitz) stattfindenden Bürgerdialog stellen wir Ihnen unsere Landratskandidatin Christine Beyer und unseren Bürgermeisterkandidaten für die Stadt Forst (Lausitz) Ingo Bochmann vor und berichten aus dem Landtag Brandenburg.
URL:https://www.afd-spn.de/termine/buergerdialog-in-forst-am-27-november/
LOCATION:Kaiserlichen Postamt\, Berliner Str. 19-23\, 03149 Forst (Lausitz)
END:VEVENT
BEGIN:VEVENT
DTSTART;TZID=Europe/Berlin:20251120T180000
DTEND;TZID=Europe/Berlin:20251120T200000
DTSTAMP:20260420T100450
CREATED:20251112T142043Z
LAST-MODIFIED:20251113T090738Z
UID:6236-1763661600-1763668800@www.afd-spn.de
SUMMARY:Bürgerdialog in Forst am 20. November
DESCRIPTION:
URL:https://www.afd-spn.de/termine/buergerdialog-in-forst-am-20-november/
LOCATION:Restaurant Wilke\, Am Keuneschen Graben 19\, 03149 Forst (Lausitz)
END:VEVENT
BEGIN:VEVENT
DTSTART;TZID=Europe/Berlin:20251110T180000
DTEND;TZID=Europe/Berlin:20251110T200000
DTSTAMP:20260420T100450
CREATED:20251112T141555Z
LAST-MODIFIED:20251112T141555Z
UID:6234-1762797600-1762804800@www.afd-spn.de
SUMMARY:Bürgerdialog in Guben
DESCRIPTION:Wir laden Sie herzlich zu einem offenen Bürgerdialog in die Alten Färbereien (Guben) ein. Gemeinsam mit meinem Landtagskollegen\, dem Vizepräsidenten des Brandenburger Landtages\, Daniel Münschke\, möchte ich mit Ihnen ins Gespräch kommen.Wir wollen Ihre Fragen beantworten\, Ihre Anliegen aufnehmen und uns mit Ihnen zu aktuellen Themen austauschen. Nutzen Sie die Gelegenheit\, Ihre Sichtweisen und Ideen direkt einzubringen – wir freuen uns auf den Dialog mit Ihnen!
URL:https://www.afd-spn.de/termine/buergerdialog-in-guben-3/
LOCATION:Alte Färberei\, Gasstraße 4\, Guben\, 03172\, Deutschland
END:VEVENT
BEGIN:VEVENT
DTSTART;TZID=Europe/Berlin:20251029T190000
DTEND;TZID=Europe/Berlin:20251029T210000
DTSTAMP:20260420T100450
CREATED:20251024T104124Z
LAST-MODIFIED:20251024T104124Z
UID:6202-1761764400-1761771600@www.afd-spn.de
SUMMARY:Bürgerdialog in Cottbus
DESCRIPTION:Keine leeren Worte – wir reden Klartext ! \nAm 29.10.2025 stehen Jean-Pascal Hohm und Steffen Kubitzki in Cottbus Rede und Antwort. Wir hören zu\, nehmen Eure Sorgen ernst und bringen Lösungen auf den Tisch. Politik muss ehrlich und direkt sein-keine Ausreden. \nKommt vorbei\, diskutiert mit uns und zeigt\, wie echte Politik vor Ort aussieht. \nOrt: Cottbus\, Wilmersdorfer Hof \nUhrzeit: Ab 19 Uhr \nSeid dabei – Eure Stimme zählt ! \nSteffen Kubitzki & Jean-Pascal Hohm
URL:https://www.afd-spn.de/termine/buergerdialog-in-cottbus-2/
LOCATION:Wilmersdorfer Hof\, Mauster Str. 11\, 03053 Cottbus
END:VEVENT
BEGIN:VEVENT
DTSTART;TZID=Europe/Berlin:20251027T180000
DTEND;TZID=Europe/Berlin:20251027T200000
DTSTAMP:20260420T100450
CREATED:20251014T143609Z
LAST-MODIFIED:20251014T143609Z
UID:6161-1761588000-1761595200@www.afd-spn.de
SUMMARY:Einladung zum Bürgerdialog in Döbern
DESCRIPTION:Wir laden Euch herzlich zu einem offenen Bürgerdialog ein! \n\n\n Wo: Deutsches Haus\, Döbern\n Wann: Montag\, 27. Oktober 2025\, um 18:00 Uhr \n\n\nGemeinsam mit meinem Landtagskollegen Michael Hanko\, möchte ich mit Euch ins Gespräch kommen. \n\n\nWir möchten Eure Fragen beantworten\, Eure Anliegen aufnehmen und uns mit Euch über aktuelle Themen austauschen. Nutzt die Gelegenheit\, Eure Sichtweisen und Ideen direkt einzubringen – wir freuen uns auf einen offenen und lebendigen Austausch mit Euch! \n\n\n Kommt vorbei und redet mit – wir freuen uns auf Euch!
URL:https://www.afd-spn.de/termine/einladung-zum-buergerdialog-in-doebern/
LOCATION:Deutsches Haus\, Muskauer Straße 1\, Döbern\, Brandenburg\, 03159\, Deutschland
END:VEVENT
BEGIN:VEVENT
DTSTART;TZID=Europe/Berlin:20251021T190000
DTEND;TZID=Europe/Berlin:20251021T210000
DTSTAMP:20260420T100450
CREATED:20251015T092845Z
LAST-MODIFIED:20251015T092845Z
UID:6175-1761073200-1761080400@www.afd-spn.de
SUMMARY:STADTGESPRÄCH IN SPREMBERG
DESCRIPTION:Wir laden Sie herzlich zu unserem Stadtgespräch im Oktober ein. \nInformieren Sie sich aus erster Hand über die aktuellen kommunalpolitischen Geschehnisse in #Spremberg\, Spree-Neiße und dem Land und kommen Sie mit unseren Abgeordneten ins Gespräch. \n\n\nWir freuen uns auf Sie !
URL:https://www.afd-spn.de/termine/stadtgespraech-in-spremberg-24/
LOCATION:Erlebnisgastronomie Hühnerstall\, Berliner Straße 2a\, Spremberg\, 03130\, Deutschland
END:VEVENT
END:VCALENDAR